BEGIN:VCALENDAR
VERSION:2.0
PRODID:-//Tukios.com/
BEGIN:VEVENT
UID:8762392d-7954-4b1d-8fcc-c26e3c34c87f@www.ladusauevans.com
DTSTAMP:20260425T023557Z
DTSTART:20260430T160000Z
DTEND:20260430T170000Z
SUMMARY:Burial
DESCRIPTION:
URL:https://www.ladusauevans.com/obituaries/steven-pritchett
LOCATION:Memorial Park Cemetery 6405 Memorial Drive  Enid OK 73701
GEO:36.4585434;-97.8687588
END:VEVENT
END:VCALENDAR