BEGIN:VCALENDAR
VERSION:2.0
PRODID:-//Tukios.com/
BEGIN:VEVENT
UID:2fd11900-7874-44b3-b70c-ff94d77eb8b5@www.ladusauevans.com
DTSTAMP:20260425T023542Z
DTSTART:20260430T150000Z
DTEND:20260430T160000Z
SUMMARY:Celebration of Life
DESCRIPTION:
URL:https://www.ladusauevans.com/obituaries/steven-pritchett
LOCATION:Ladusau-Evans Funeral Home Chapel 2800 N. Van Buren  Enid OK 
	73703
GEO:36.4247315;-97.8911445
END:VEVENT
END:VCALENDAR